BEGIN:VCALENDAR
VERSION:2.0
PRODID:-//Extinction Rebellion Boston//Action//
BEGIN:VEVENT
SUMMARY:[Solidarity] Seeds in the Dirt\, Fists in the Air
DTSTART:20240323T180000Z
DTEND:20240323T200000Z
DTSTAMP:20260425T165234Z
UID:1769@https://xrboston.org
CREATED:20260425T165234Z
DESCRIPTION:Event details: https://xrboston.org/action/solidarity-seeds-in
 -the-dirt-fists-in-the-air/\n\nCalling all XR families!\n\nCelebrate the a
 rrival of spring during an afternoon of learning\, creativity\, and enviro
 nmental advocacy with C1 and friends\, including XR Boston! Welcome the ne
 w season with hands-on activities\, crafts\, music\, and more as we amplif
 y collective action in the face of climate challenges and work together fo
 r a more sustainable future.\n\nThis event is especially great for kids ag
 es 5-13 and their caregivers/educators\, but we'll have activities and act
 ions for folks of all ages to enjoy. Snacks will be provided!\n\n(Optional
 ) RSVP here to get your free tickets: [https://company-one-theatre.ticketl
 eap.com/better-future-series-seeds-in-the-dirt-fists-in-the-air/details](h
 ttps://company-one-theatre.ticketleap.com/better-future-series-seeds-in-th
 e-dirt-fists-in-the-air/details)
LAST-MODIFIED:20240319T182729Z
LOCATION:City Hall Plaza Pavilion
ORGANIZER;CN="Extinction Rebellion Boston":MAILTO:outreach@xrboston.org
URL:https://xrboston.org/action/solidarity-seeds-in-the-dirt-fists-in-the-
 air/
END:VEVENT
END:VCALENDAR
