BEGIN:VCALENDAR
VERSION:2.0
PRODID:-//Extinction Rebellion Boston//Action//
BEGIN:VEVENT
SUMMARY:[Solidarity] Sitting for Survival - Sitting Meditation for the Cli
 mate
DTSTART:20230709T200000Z
DTEND:20230709T220000Z
DTSTAMP:20260425T161127Z
UID:1569@https://xrboston.org
CREATED:20260425T161127Z
DESCRIPTION:Event details: https://xrboston.org/action/solidarity-sitting-
 for-survival-sitting-july9-2023/\n\nWe gather to meditate in public space 
 to bear witness to our current climate emergency and in doing so\, strive 
 to awaken others to see and take action.\n\nWe sit distanced with signs th
 at we provide.\n\nSummer is here\, and we have returned to outdoor sitting
 .\n\nWe will be at steps of the Cambridge Central Square the Post Office e
 very other Sunday. Notices will be sent out Friday before the Sunday Sit. 
 Be on the lookout and join us!\n\n4:00pm-4:30pm Sitting / 4:30pm-5:00pm So
 cializing\n\nTo be included on our mailing list\, please email awakeningfo
 rearth@gmail.com.\n\nIn equanimity\,\n\nAwakening
LAST-MODIFIED:20230630T154913Z
LOCATION:Cambridge Post Office 770 Massachusetts Ave\, Cambridge\, MA 0213
 9
ORGANIZER;CN="Extinction Rebellion Boston":MAILTO:outreach@xrboston.org
URL:https://xrboston.org/action/solidarity-sitting-for-survival-sitting-ju
 ly9-2023/
END:VEVENT
END:VCALENDAR
