BEGIN:VCALENDAR
VERSION:2.0
PRODID:-//Extinction Rebellion Boston//Action//
BEGIN:VEVENT
SUMMARY:[Solidarity] Sitting for Survival - Sitting Meditation for the Cli
 mate
DTSTART:20231119T163000Z
DTEND:20231119T183000Z
DTSTAMP:20260425T105507Z
UID:1674@https://xrboston.org
CREATED:20260425T105507Z
DESCRIPTION:Event details: https://xrboston.org/action/solidarity-sitting-
 for-survival-sitting-nov19/\n\nWe gather to meditate in public space to be
 ar witness to our current climate emergency and in doing so\, strive to aw
 aken others to see and take action.\n\nWe sit distanced with signs that we
  provide.\n\nWe will be at steps of the Cambridge Central Square the Post 
 Office every other Sunday. Notices will be sent out Friday before the Sund
 ay Sit. Be on the lookout and join us!\n\n11:30am-12:00pm Sitting / 12:00p
 m-12:30pm Socializing\n\nTo be included on our mailing list\, please email
  awakeningforearth@gmail.com.\n\nIn equanimity\,\n\nAwakening
LAST-MODIFIED:20231103T190646Z
LOCATION:Cambridge Post Office 770 Massachusetts Ave\, Cambridge\, MA 0213
 9
ORGANIZER;CN="Extinction Rebellion Boston":MAILTO:outreach@xrboston.org
URL:https://xrboston.org/action/solidarity-sitting-for-survival-sitting-no
 v19/
END:VEVENT
END:VCALENDAR
