BEGIN:VCALENDAR
VERSION:2.0
PRODID:-//Extinction Rebellion Boston//Action//
BEGIN:VEVENT
SUMMARY:[solidarity] [RESCHEDULED] Stop the Peabody Peaker Plant Die-In
DTSTART:20220927T150000Z
DTEND:20220927T170000Z
DTSTAMP:20260421T053217Z
UID:1281@https://xrboston.org
CREATED:20260421T053217Z
DESCRIPTION:Event details: https://xrboston.org/action/solidarity-stop-the
 -peabody-peaker-plant-die-in/\n\n**This action has been rescheduled to Tue
 sday 9/27 due to inclement weather**\n\nWe must stop the new Peabody gas p
 lant!\n\nIt is time to up the ante.\n\nWe say **NO** to more pollution.\n\
 nWe say **NO** to an economic boondoggle\n\nWe say **NO** to suffocating o
 ur communities.\n\nSign up for the Die-In [here](https://bit.ly/peabody-di
 e-in)\n\nSponsored by Slingshot\, 350 Mass\, Massachusetts Climate Action 
 Network\, XR\, and Breathe Clean North Shore.
LAST-MODIFIED:20220913T143857Z
LOCATION:Danversport Bridge\, Danvers\, MA
ORGANIZER;CN="Extinction Rebellion Boston":MAILTO:outreach@xrboston.org
URL:https://xrboston.org/action/solidarity-stop-the-peabody-peaker-plant-d
 ie-in/
END:VEVENT
END:VCALENDAR
