BEGIN:VCALENDAR
VERSION:2.0
PRODID:-//Extinction Rebellion Boston//Action//
BEGIN:VEVENT
SUMMARY:[SOLIDARITY] Sunday Climate Table: A Conversation
DTSTART:20260329T201500Z
DTEND:20260329T221500Z
DTSTAMP:20260421T141058Z
UID:2234@https://xrboston.org
CREATED:20260421T141058Z
DESCRIPTION:Event details: https://xrboston.org/action/solidarity-sunday-c
 limate-table-a-conversation/\n\n**The Sunday Table is back!** You’re inv
 ited to our next gathering at the Kickstand Cafe in Arlington on Sunday\, 
 March 29\, 2026. Join climate activist Jamie McGonagill\, the Media and Me
 ssaging Coordinator at Extinction Rebellion (XR) Boston\, and clinical psy
 chologist Maria Minkova\, member of Climate Psychology Alliance North Amer
 ica\, for a guided conversation on the climate crisis—exploring both our
  shared concerns and how we build personal resilience and connection in th
 e face of it.\nTogether\, they’ll create a space for thoughtful dialogue
 \, reflection\, and community.\n\n**What is The Sunday Table?**\nA modern 
 take on the salon—a welcoming space to gather over simple food\, meaning
 ful topics\, and good conversation.\n\n**What to expect**\nA facilitated\,
  interactive conversation. We’ll begin together\, then break into small 
 groups to share perspectives and personal experiences\, pause to enjoy foo
 d\, and return to continue the conversation with a greater sense of connec
 tion and possibility.\n\n**Location**\nKickstand Cafe\n594 Massachusetts A
 venue\nArlington\, MA\n\n**Cost**\nA donation is suggested to reserve your
  spot and help cover food\, space\, and supplies. Two options are availabl
 e to keep the event accessible:\n\n• Standard donation: $20\n• Communi
 ty donation: Pay what you can\n\nVenmo: @Jennifer-Dubilier (last 4 digits:
  1362)\nPlease include “tST donation” in the note.\n**If you’re unab
 le to contribute but would like to attend\, simply email <jenleep@gmail.co
 m> to RSVP!**
LAST-MODIFIED:20260330T192425Z
LOCATION:Kickstand Cafe\, 594 Massachusetts Avenue Arlington\, MA
ORGANIZER;CN="Extinction Rebellion Boston":MAILTO:outreach@xrboston.org
URL:https://xrboston.org/action/solidarity-sunday-climate-table-a-conversa
 tion/
END:VEVENT
END:VCALENDAR
