BEGIN:VCALENDAR
VERSION:2.0
PRODID:-//Extinction Rebellion Boston//Action//
BEGIN:VEVENT
SUMMARY:[SOLIDARITY] Tell Gov. Healey to Denounce Hanscom Expansion
DTSTART:20240422T140000Z
DTEND:20240422T160000Z
DTSTAMP:20260425T181846Z
UID:1789@https://xrboston.org
CREATED:20260425T181846Z
DESCRIPTION:Event details: https://xrboston.org/action/solidarity-tell-gov
 -healey-to-denounce-hanscom/\n\nOn Monday April 22\, join Sunrise Newton\,
  Sunrise Northeastern\, and Stop Private Jet Expansion from 10 am -11 am o
 utside the State House in Boston\, MA. We're going to demand that Governor
  Maura Healey denounce the proposed private jet expansion of Hanscom Airfi
 eld in Bedford\, MA!
LAST-MODIFIED:20240416T184319Z
LOCATION:Outside Massachusetts State House\, 24 Beacon St.
ORGANIZER;CN="Extinction Rebellion Boston":MAILTO:outreach@xrboston.org
URL:https://xrboston.org/action/solidarity-tell-gov-healey-to-denounce-han
 scom/
END:VEVENT
END:VCALENDAR
