BEGIN:VCALENDAR
VERSION:2.0
PRODID:-//Extinction Rebellion Boston//Action//
BEGIN:VEVENT
SUMMARY:[SOLIDARITY] Urban Agriculture & Climate Justice Fair
DTSTART:20240928T150000Z
DTEND:20240928T170000Z
DTSTAMP:20260420T082504Z
UID:1870@https://xrboston.org
CREATED:20260420T082504Z
DESCRIPTION:Event details: https://xrboston.org/action/solidarity-urban-ag
 riculture-climate-justice-fair/\n\nWrap up the Week of Rebellion by coming
  out to the **Urban Agriculture & Climate Justice Fair** on Saturday Sept.
  28 at the Nightingale Community Garden in Dorchester (512 Park St)\, from
  11 am to 3 pm! The event is sponsored by a large coalition of organizatio
 ns\, including Extinction Rebellion.\n\nThis is a fun\, educational\, and 
 family-friendly event with food\, music\, produce from local farms\, fruit
 /vegetable/flower competitions with prizes\, climate games\, and demonstra
 tions about making cider\, beekeeping\, raising chickens\, composting\, mu
 shrooms\, and gardening. There's something for everyone! Extinction Rebell
 ion will have a table -- stop on by to say hi and grab some stickers and b
 uttons!\n\nPlease plan to attend\, bring friends\, and help us spread the 
 word!\n\nWant to help out? We're looking for people to help attendees play
  Extinction Jenga and Mass Energize's Climate Carnival Games. Email outrea
 ch - at - xrboston.org.\n\nRaindate: Sunday\, September 29.
LAST-MODIFIED:20240830T014115Z
LOCATION:Nightingale Community Garden Dorchester MA\, 512 Park St
ORGANIZER;CN="Extinction Rebellion Boston":MAILTO:outreach@xrboston.org
URL:https://xrboston.org/action/solidarity-urban-agriculture-climate-justi
 ce-fair/
END:VEVENT
END:VCALENDAR
