BEGIN:VCALENDAR
VERSION:2.0
PRODID:-//Extinction Rebellion Boston//Action//
BEGIN:VEVENT
SUMMARY:[Solidarity] We are all plastic people now film showing
DTSTART:20240319T230000Z
DTEND:20240320T010000Z
DTSTAMP:20260425T164900Z
UID:1761@https://xrboston.org
CREATED:20260425T164900Z
DESCRIPTION:Event details: https://xrboston.org/action/solidarity-we-are-a
 ll-plastic-people-now/\n\nFirst Parish Watertown in collaboration with Bey
 ond Plastics Greater Boston and Oceana will host a free film screening of 
 Rory Fielding's documentary "We're All Plastic People Now" on Tuesday\, Ma
 rch 19th at 7:00 PM at First Parish Watertown\, 35 Church Street\, Waterto
 wn.  Check out the [film trailer.](https://www.youtube.com/watch?v=SmoxEJJ
 wKcQ) The film addresses the global plastic pollution crisis and features 
 Oceana’s Plastics Campaign Director Christy Leavitt and Oceana board mem
 ber Ted Danson. It also shows the chilling reality of how pervasive plasti
 c pollution is in our lives. Plastic is everywhere from the air we breathe
  to the water we drink. \n\nSolving the plastic pollution crisis requires 
 that we curb single-use plastic production and cut off the problem at the 
 source. Reuse and refill systems can move us away from throwaway plastics.
  The future can include less plastic if we turn off the tap and invest in 
 non-toxic reuse together. The screening will be followed by light refreshm
 ents\, and next steps advocating for plastic pollution legislation in Mass
 achusetts.  [RSVP](https://bit.ly/3Tjf6Ta) not mandatory but recommended.
LAST-MODIFIED:20240313T222048Z
LOCATION:First Parish Watertown\, 35 Church St\, Watertown\, MA 02472
ORGANIZER;CN="Extinction Rebellion Boston":MAILTO:outreach@xrboston.org
URL:https://xrboston.org/action/solidarity-we-are-all-plastic-people-now/
END:VEVENT
END:VCALENDAR
