BEGIN:VCALENDAR
VERSION:2.0
PRODID:-//Extinction Rebellion Boston//Action//
BEGIN:VEVENT
SUMMARY:[Solidarity] White Raven\, Black Dove Show
DTSTART:20250927T000000Z
DTEND:20250927T020000Z
DTSTAMP:20260421T231011Z
UID:2155@https://xrboston.org
CREATED:20260421T231011Z
DESCRIPTION:Event details: https://xrboston.org/action/solidarity-white-ra
 ven-black-dove-show/\n\nJoin XR Boston tabling at the White Snake Project'
 s show "White Raven\, Black Dove"! \n\nWe will be tabling all three nights
  - come help out\, or just stop by to say hi and stay for the show!\n\n<p>
  Check out the event webpage here: <br>\nhttps://www.whitesnakeprojects.or
 g/white-raven-black-dove/ </p>\n\nDates/Times:\n\nFriday\, September 26\, 
 2025 | 8:00 PM\n\nSaturday\, September 27\, 2025 | 7:30 PM \n\nSunday\, Se
 ptember 28\, 2025 | 2:00 PM </p>\n\n<p> Show details: <br>\nComposer: Jaci
 nth Greywoode | Librettist: Cerise Lim Jacobs <br>\nCommissioned by White 
 Snake Projects <br>\nRun Time: Approx. 90 minutes without intermission\; P
 erformed in English with subtitles </p>\n\n<p> Synopsis: <br>\nWhite Raven
 \, Black Dove is an original work of science fiction using live performanc
 e\, computer generated images and animation to explore two issues consumin
 g America today – race and climate change. <br>\nThrough Raven and Dove\
 , two birds with mythological significance in Norse\, Asian\, Judeo-Christ
 ian\, Indigenous and other cultures\, we are immersed in a dystopian world
  after the Sixth Extinction\, a climate devastation accelerated by human a
 ction\, and find ways to come together to build a new world. <br>\nIn this
  era of “two” Americas\, Raven reaches both Americas through engaging\
 , contemporary music theater. </p>
LAST-MODIFIED:20250917T125916Z
LOCATION:Strand Theatre (543 Columbia Rd\, Boston\, MA 02125)
ORGANIZER;CN="Extinction Rebellion Boston":MAILTO:outreach@xrboston.org
URL:https://xrboston.org/action/solidarity-white-raven-black-dove-show/
END:VEVENT
END:VCALENDAR
