BEGIN:VCALENDAR
VERSION:2.0
PRODID:-//Extinction Rebellion Boston//Action//
BEGIN:VEVENT
SUMMARY:Training Series: SOS Decision Making and Facilitation
DTSTART:20240123T230000Z
DTEND:20240124T010000Z
DTSTAMP:20260425T133358Z
UID:1654@https://xrboston.org
CREATED:20260425T133358Z
DESCRIPTION:Join online: <a href="https://us02web.zoom.us/meeting/register
 /tZMscOqrrDspE9CMCvngz36O4lR7F0MEKLv0">https://us02web.zoom.us/meeting/reg
 ister/tZMscOqrrDspE9CMCvngz36O4lR7F0MEKLv0</a>\n\nEvent details: <a href="
 https://xrboston.org/action/sos-and-facilitation-01-23-24/">https://xrbost
 on.org/action/sos-and-facilitation-01-23-24/</a>\n\nAre you curious to lea
 rn more about different support roles for Extinction Rebellion Boston?\n\n
 **SOS Decision Making and Facilitation:** In this 90-minute session we wil
 l explore how XR's self-organizing systems make decisions using the tenets
  of Sociocracy(i.e. one song\, many voices)\, how to facilitate meetings\,
  and make proposals based on consent.\n\nOther sessions will include:  \n\
 n* Arrest support: Provides direct personal support for arrestable people.
  They have all relevant personal information\, will take the call from the
  police station\, provide support at the police station and makes sure eve
 ryone gets home safely. \n\n* Peacekeeping & deescalation: Help guide peop
 le where to go and keep protest safe by blocking traffic block of streets 
 for us along the parade route.\n\n* Media Support: Helps facilitate the in
 teractions between the group and the media. Prepares press releases\, coor
 dinates photography\, live-streaming\, and footage to edit.\n\n* Police Li
 aison: Conveys information and demands between the police and the group be
 fore/during actions. Helps to keep the police calm and reminds them of our
  non-violence.\n\n-::~:~::~:~:~:~:~:~:~:~:~:~:~:~:~:~:~:~:~:~:~:~:~:~:~:~:
 ~:~:~:~:~:~:~:~:~:~:~:~::~:~::-\nDo not edit this section of the descripti
 on.\n\nThis event has a video call.\nJoin: https://us02web.zoom.us/meeting
 /register/tZMscOqrrDspE9CMCvngz36O4lR7F0MEKLv0\n\nView your event at https
 ://xrboston.org/action/sos-and-facilitation-01-23-24/\n-::~:~::~:~:~:~:~:~
 :~:~:~:~:~:~:~:~:~:~:~:~:~:~:~:~:~:~:~:~:~:~:~:~:~:~:~:~:~:~::~:~::-
LAST-MODIFIED:20240123T165846Z
LOCATION:Online event
ORGANIZER;CN="Extinction Rebellion Boston":MAILTO:outreach@xrboston.org
URL:https://xrboston.org/action/sos-and-facilitation-01-23-24/
END:VEVENT
END:VCALENDAR
