BEGIN:VCALENDAR
VERSION:2.0
PRODID:-//Extinction Rebellion Boston//Action//
BEGIN:VEVENT
SUMMARY:Speakout/Standout Against AD Makepeace (Solidarity Action)
DTSTART:20220504T210000Z
DTEND:20220504T230000Z
DTSTAMP:20260421T103127Z
UID:1165@https://xrboston.org
CREATED:20260421T103127Z
DESCRIPTION:Event details: https://xrboston.org/action/speakoutstandout-ag
 ainstmakepeace/\n\nJoin Save the Pine Barrens\, Massachusetts Peace Action
  and others for a Speakout and Standout against A.D. Makepeace Co. on Wedn
 esday\, May 4 from 5-7 pm at the Westin Seaport Hotel\, 425 Summer Street 
 Boston\, MA.\n\nAD Makepeace Corporation\, the largest land-owner in South
 east Massachusetts uses cranberry growing as cover for clear-cutting hundr
 eds of acres of mature forest\, extracting gravel and sand in strip mines\
 , and installing toxic industrial solar arrays on arsenic-treated poles in
  delicate pine barrens. Headquartered in Wareham\, MA\, Makepeace is being
  awarded the Private Company Board of the Year by the National Association
  of Corporate Directors - New England.\n\nMakepeace is responsible for the
  largest clear-cutting operation in Southeast Massachusetts of the globall
 y rare Pine Barrens in the towns of Plymouth\, Carver and Wareham. They ar
 e being passed off as a "green" company and receiving millions of dollars 
 of industrial solar subsidies from the state because of their perpetual gr
 eenwashing to hide their true activities. Jim Kane\, President and Chief E
 xecutive officer of A.D. Makepeace is the primary spokesperson for the com
 pany.\n\nSave the Pine Barrens and Massachusetts Peace Action Indigenous S
 ubgroup are joining with other groups and individuals to protest this corp
 oration and its role in greenwashing the destruction it is responsible for
 \, of the Pine Barrens\, the extraction of sand\, gravel and silicon from 
 the earth that has ruined dozens of residential wells and is endangering t
 he sole-source aquifer for 8 neighboring towns.\n\nThe pine barrens forest
 s and sand and gravel act as a natural filter for the carbon emissions cre
 ating cleaner air and water. Clear cutting and extraction take away this f
 ilter and allow pollution of water and the air.\n\nGo to this Facebook [LI
 NK](https://m.facebook.com/events/1144477899705699) for more information.
LAST-MODIFIED:20220429T040447Z
LOCATION:Westin Seaport Hotel\, 425 Summer Street Boston\, MA
ORGANIZER;CN="Extinction Rebellion Boston":MAILTO:outreach@xrboston.org
URL:https://xrboston.org/action/speakoutstandout-againstmakepeace/
END:VEVENT
END:VCALENDAR
