BEGIN:VCALENDAR
VERSION:2.0
PRODID:-//Extinction Rebellion Boston//Action//
BEGIN:VEVENT
SUMMARY:Spring Action Mobilization!
DTSTART:20250413T170000Z
DTEND:20250413T190000Z
DTSTAMP:20260424T043504Z
UID:2054@https://xrboston.org
CREATED:20260424T043504Z
DESCRIPTION:Event details: https://xrboston.org/action/spring-action-mobil
 ization/\n\nHow do we make our Spring Mass Action as powerful as possible?
 ?\n\nThe bigger our march\, the more people chanting with us\, the more po
 wer we have! We have hundreds of rebels who maybe signed up for our newsle
 tter 5 years ago or yesterday but haven't yet taken action yet. The most e
 ffective way to recruit these rebels is to dial them up and ask them to co
 me!\n\nWe'll start with a short training\, do some practice roll playing\,
  and then start recruiting. Plan to spend 2 hours here\, we'll bring the y
 ummy snacks if you bring your phone and a pair of headphones (if you have 
 them). RSVP for the address!\n\nWhether you're a pro or its your first tim
 e phone banking we need you! Can't wait!!
LAST-MODIFIED:20250401T010145Z
LOCATION:Home near Porter Square
ORGANIZER;CN="Extinction Rebellion Boston":MAILTO:outreach@xrboston.org
URL:https://xrboston.org/action/spring-action-mobilization/
END:VEVENT
END:VCALENDAR
