BEGIN:VCALENDAR
VERSION:2.0
PRODID:-//Extinction Rebellion Boston//Action//
BEGIN:VEVENT
SUMMARY:Spring Action Mobilization! [Hybrid Meeting]
DTSTART:20250419T190000Z
DTEND:20250419T210000Z
DTSTAMP:20260420T143412Z
UID:2055@https://xrboston.org
CREATED:20260420T143412Z
DESCRIPTION:Event details: https://xrboston.org/action/spring-action-mobil
 ization-2/\n\nHow do we make our Spring Mass Action as powerful as possibl
 e??\n\nThe bigger our march\, the more people chanting with us\, the more 
 power we have! We have hundreds of rebels who maybe signed up for our news
 letter 5 years ago or yesterday but haven't yet taken action yet. The most
  effective way to recruit these rebels is to dial them up and ask them to 
 come!\n\nWe'll start with a short training\, do some practice role playing
 \, and then start recruiting. Plan to spend 2 hours here\, we'll bring the
  yummy snacks if you bring your phone and a pair of headphones (if you hav
 e them). RSVP for the address!\n\nWhether you're a pro or its your first t
 ime phone banking we need you! Can't wait!!
LAST-MODIFIED:20250419T164914Z
LOCATION:Virtually or Home near Porter Square
ORGANIZER;CN="Extinction Rebellion Boston":MAILTO:outreach@xrboston.org
URL:https://xrboston.org/action/spring-action-mobilization-2/
END:VEVENT
END:VCALENDAR
