BEGIN:VCALENDAR
VERSION:2.0
PRODID:-//Extinction Rebellion Boston//Action//
BEGIN:VEVENT
SUMMARY:Springtime Full-Chapter Gathering!
DTSTART:20260419T193000Z
DTEND:20260419T213000Z
DTSTAMP:20260425T022134Z
UID:2249@https://xrboston.org
CREATED:20260425T022134Z
DESCRIPTION:Event details: https://xrboston.org/action/springtime-full-cha
 pter-gathering/\n\nAre you new to XR Boston\, a casual participant looking
  to reconnect with our community\, or a dedicated activist hoping to get m
 ore involved? Join the April General Meeting to get plugged into the movem
 ent and strengthen our bonds. From **3:30 pm to 5:30 pm\,** we'll do a big
  Q&A to answer your questions\, share a climate emotions circle\, and do f
 un social exercises to make new friends! You'll also receive updates on up
 coming XR Boston actions and events.\n\nVegan snacks will be provided\, pl
 ease feel free to bring some to share\, and always come with your own re-u
 sable water bottle.\n\n**PLEASE NOTE: **This is the weekend of the Boston 
 Marathon! Some streets are blocked off already\, including Dartmouth and B
 oylston in Copley. Some T stops may also be closed\, please check your rou
 te beforehand.
LAST-MODIFIED:20260420T183801Z
LOCATION:Community Church of Boston\, 565 Boylston St\, Boston\, MA 02116
ORGANIZER;CN="Extinction Rebellion Boston":MAILTO:outreach@xrboston.org
URL:https://xrboston.org/action/springtime-full-chapter-gathering/
END:VEVENT
END:VCALENDAR
