BEGIN:VCALENDAR
VERSION:2.0
PRODID:-//Extinction Rebellion Boston//Action//
BEGIN:VEVENT
SUMMARY:Scientist Rebellion
DTSTART:20220426T220000Z
DTEND:20220427T000000Z
DTSTAMP:20260421T212608Z
UID:1155@https://xrboston.org
CREATED:20260421T212608Z
DESCRIPTION:Join online: <a href="https://us02web.zoom.us/j/81250113818?pw
 d=RnpWZm1NY3FuQTNEWHR0TGY1NXlydz09">https://us02web.zoom.us/j/81250113818?
 pwd=RnpWZm1NY3FuQTNEWHR0TGY1NXlydz09</a>\n\nEvent details: <a href="https:
 //xrboston.org/action/sr_2022-04-26/">https://xrboston.org/action/sr_2022-
 04-26/</a>\n\n"Now is the time to turn rage into action. Every fraction of
  a degree matters. Every voice can make a difference. And every second cou
 nts." - António Guterres\, Secretary-General of the United Nations\n\nJoi
 n us online for our regular meeting to organize the Scientist Rebellion\, 
 a group affiliated with Extinction Rebellion organized by and for scientis
 ts.\n\nPlease\, find your voice and use your credentials to make a powerfu
 l statement on the urgency of the moment we find ourselves in. Internation
 al "Scientist Rebellion" efforts have been underway for some time now > it
 's time for Massachusetts scientists to get engaged! (https://scientistreb
 ellion.com/)\n\nAll past\, current\, and future scientists and science-min
 ded folks are invited.\n\nRSVP on this page to receive the virtual meeting
  link.\n\n-::~:~::~:~:~:~:~:~:~:~:~:~:~:~:~:~:~:~:~:~:~:~:~:~:~:~:~:~:~:~:
 ~:~:~:~:~:~:~:~::~:~::-\nDo not edit this section of the description.\n\nT
 his event has a video call.\nJoin: https://us02web.zoom.us/j/81250113818?p
 wd=RnpWZm1NY3FuQTNEWHR0TGY1NXlydz09\n\nView your event at https://xrboston
 .org/action/sr_2022-04-26/\n-::~:~::~:~:~:~:~:~:~:~:~:~:~:~:~:~:~:~:~:~:~:
 ~:~:~:~:~:~:~:~:~:~:~:~:~:~:~:~:~::~:~::-
LAST-MODIFIED:20220422T003438Z
LOCATION:Online event
ORGANIZER;CN="Extinction Rebellion Boston":MAILTO:outreach@xrboston.org
URL:https://xrboston.org/action/sr_2022-04-26/
END:VEVENT
END:VCALENDAR
