BEGIN:VCALENDAR
VERSION:2.0
PRODID:-//Extinction Rebellion Boston//Action//
BEGIN:VEVENT
SUMMARY:Scientist Rebellion Info Session
DTSTART:20220222T000000Z
DTEND:20220222T020000Z
DTSTAMP:20260425T034828Z
UID:1061@https://xrboston.org
CREATED:20260425T034828Z
DESCRIPTION:Join online: <a href="https://us02web.zoom.us/j/89035985286?pw
 d=T3hWbk5JeEFYSWpKektSS3lCUTZqQT09">https://us02web.zoom.us/j/89035985286?
 pwd=T3hWbk5JeEFYSWpKektSS3lCUTZqQT09</a>\n\nEvent details: <a href="https:
 //xrboston.org/action/sr_20220221/">https://xrboston.org/action/sr_2022022
 1/</a>\n\nJoin fellow scientist-rebels for a conversation about how we mig
 ht bring our special skill set to Extinction Rebellion Boston actions. We 
 will hear from Scientist Rebellion about efforts to establish a U.S./Canad
 a arm of the international organization (https://scientistrebellion.com/) 
 to get us started.\n\nAll past\, current\, and future scientists and scien
 ce-minded folks are invited.\n\n-::~:~::~:~:~:~:~:~:~:~:~:~:~:~:~:~:~:~:~:
 ~:~:~:~:~:~:~:~:~:~:~:~:~:~:~:~:~:~:~::~:~::-\nDo not edit this section of
  the description.\n\nThis event has a video call.\nJoin: https://us02web.z
 oom.us/j/89035985286?pwd=T3hWbk5JeEFYSWpKektSS3lCUTZqQT09\n\nView your eve
 nt at https://xrboston.org/action/sr_20220221/\n-::~:~::~:~:~:~:~:~:~:~:~:
 ~:~:~:~:~:~:~:~:~:~:~:~:~:~:~:~:~:~:~:~:~:~:~:~:~:~:~::~:~::-
LAST-MODIFIED:20220215T014418Z
LOCATION:Online event
ORGANIZER;CN="Extinction Rebellion Boston":MAILTO:outreach@xrboston.org
URL:https://xrboston.org/action/sr_20220221/
END:VEVENT
END:VCALENDAR
