BEGIN:VCALENDAR
VERSION:2.0
PRODID:-//Extinction Rebellion Boston//Action//
BEGIN:VEVENT
SUMMARY:Standout for All We Love
DTSTART:20250314T200000Z
DTEND:20250314T220000Z
DTSTAMP:20260423T004031Z
UID:2019@https://xrboston.org
CREATED:20260423T004031Z
DESCRIPTION:Event details: https://xrboston.org/action/standout-for-all-we
 -love-3/\n\nJoin the Extinction Rebellion Arlington Affinity Group in  our
  weekly standout for all we love! Join your neighbors in standing up for o
 ur planet\, democracy\, trans kids\, immigrants\, the right to choose\, di
 versity equity and inclusion\, public parks\, and much more. \n\nWe meet a
 t the corner of Lake St and Mass Ave in East Arlington every Friday from 4
 pm to 5pm. Bring your own signs of hold one of ours. We look forward to st
 anding with you!
LAST-MODIFIED:20250222T214846Z
LOCATION:Corner of Lake St and Mass Ave\, Arlington
ORGANIZER;CN="Extinction Rebellion Boston":MAILTO:outreach@xrboston.org
URL:https://xrboston.org/action/standout-for-all-we-love-3/
END:VEVENT
END:VCALENDAR
