BEGIN:VCALENDAR
VERSION:2.0
PRODID:-//Extinction Rebellion Boston//Action//
BEGIN:VEVENT
SUMMARY:State House Stand-Out Info Session #6
DTSTART:20231102T220000Z
DTEND:20231103T000000Z
DTSTAMP:20260425T105052Z
UID:1660@https://xrboston.org
CREATED:20260425T105052Z
DESCRIPTION:Join online: <a href="https://us02web.zoom.us/j/81733502435?pw
 d=Qy9WelI5ZVlRTTUzdlNoc3VDWXJzUT09">https://us02web.zoom.us/j/81733502435?
 pwd=Qy9WelI5ZVlRTTUzdlNoc3VDWXJzUT09</a>\n\nEvent details: <a href="https:
 //xrboston.org/action/state-house-stand-out-info-session-6/">https://xrbos
 ton.org/action/state-house-stand-out-info-session-6/</a>\n\nThe State Hous
 e Stand-Out is a long-term vigil in front of the MA State House to pressur
 e Governor Healey\, Senate President Spilka\, and House Speaker Mariano to
  commit to No New Fossil Fuel Infrastructure. The Stand-Out started on Jun
 e 5 and has been going strong ever since\, with two or more people standin
 g out in shifts all day\, every business day\, applying nonviolent\, const
 ant\, highly visible resistance to our leaders' inaction. Our persistence 
 over time\, amplified by a robust media strategy\, will make us impossible
  to ignore. This perpetual\, peaceful action\, in concert with the many ot
 her efforts by Extinction Rebellion and other climate groups\, will force 
 our leaders to come to the table regarding No New Fossil Fuel Infrastructu
 re.\n\nA non-stop Stand-Out is an ambitious goal that requires many people
  to show up and sacrifice their time. For that reason\, it is a powerful t
 ool to show the state government that we will not stop demanding real clim
 ate action. We hope this Stand-Out will become an inspiring coalition of a
 ction organizations across Massachusetts\, united in the fight for no new 
 fossil fuel infrastructure.\n\nPlease join an Info Session where we will s
 hare details of the Stand-Out\, how you can participate\, and the experien
 ce from the first four months of standing out.\n\n-::~:~::~:~:~:~:~:~:~:~:
 ~:~:~:~:~:~:~:~:~:~:~:~:~:~:~:~:~:~:~:~:~:~:~:~:~:~:~:~::~:~::-\nDo not ed
 it this section of the description.\n\nThis event has a video call.\nJoin:
  https://us02web.zoom.us/j/81733502435?pwd=Qy9WelI5ZVlRTTUzdlNoc3VDWXJzUT0
 9\n\nView your event at https://xrboston.org/action/state-house-stand-out-
 info-session-6/\n-::~:~::~:~:~:~:~:~:~:~:~:~:~:~:~:~:~:~:~:~:~:~:~:~:~:~:~
 :~:~:~:~:~:~:~:~:~:~:~::~:~::-
LAST-MODIFIED:20240102T145425Z
LOCATION:Online event
ORGANIZER;CN="Extinction Rebellion Boston":MAILTO:outreach@xrboston.org
URL:https://xrboston.org/action/state-house-stand-out-info-session-6/
END:VEVENT
END:VCALENDAR
