BEGIN:VCALENDAR
VERSION:2.0
PRODID:-//Extinction Rebellion Boston//Action//
BEGIN:VEVENT
SUMMARY:State House Stand-Out Info Session #7
DTSTART:20240109T000000Z
DTEND:20240109T020000Z
DTSTAMP:20260425T133224Z
UID:1703@https://xrboston.org
CREATED:20260425T133224Z
DESCRIPTION:Join online: <a href="https://us02web.zoom.us/j/81172803812">h
 ttps://us02web.zoom.us/j/81172803812</a>\n\nEvent details: <a href="https:
 //xrboston.org/action/state-house-stand-out-info-session-7/">https://xrbos
 ton.org/action/state-house-stand-out-info-session-7/</a>\n\nThe State Hous
 e Stand-Out is a long-term vigil in front of the MA State House to pressur
 e Governor Healey\, Senate President Spilka\, and House Speaker Mariano to
  commit to No New Fossil Fuel Infrastructure. The Stand-Out started on Jun
 e 5\, 2023 and has been going strong ever since\, with two or more people 
 standing out in shifts every business day\, applying nonviolent\, constant
 \, highly visible resistance to our leaders' climate inaction. \n\nOur per
 sistence over time\, amplified by a robust media strategy\, has made us im
 possible to ignore and has already achieved significant policy changes and
  statements. However\, there is still a long way to go until No New Fossil
  Fuel Infrastructure in MA. This daily\, peaceful action\, in concert with
  the many other efforts by Extinction Rebellion and other climate groups\,
  will force our leaders to come to the table regarding No New Fossil Fuel 
 Infrastructure.\n\nA non-stop Stand-Out is an ambitious goal that requires
  many people to show up and sacrifice their time. For that reason\, it is 
 a powerful tool to show the state government that we will not stop demandi
 ng real climate action. \n\nPlease join an Info Session for an online "in-
 person" run through of what's involved for participants and the experience
  from the past seven months of standing out. Special focus will be given t
 o our Winter Edition tactics of "standing out" indoors. \n\nRead more abou
 t the Stand-out in the [FAQs](https://docs.google.com/document/d/1QLrqRwqz
 z6ix_wCQTAiacwv9YA6PD289s2GpcNuriHE/edit) and our [daily log](https://stat
 ehousestandout.wordpress.com/).\n\n-::~:~::~:~:~:~:~:~:~:~:~:~:~:~:~:~:~:~
 :~:~:~:~:~:~:~:~:~:~:~:~:~:~:~:~:~:~:~:~::~:~::-\nDo not edit this section
  of the description.\n\nThis event has a video call.\nJoin: https://us02we
 b.zoom.us/j/81172803812\n\nView your event at https://xrboston.org/action/
 state-house-stand-out-info-session-7/\n-::~:~::~:~:~:~:~:~:~:~:~:~:~:~:~:~
 :~:~:~:~:~:~:~:~:~:~:~:~:~:~:~:~:~:~:~:~:~:~::~:~::-
LAST-MODIFIED:20240102T151403Z
LOCATION:Online event
ORGANIZER;CN="Extinction Rebellion Boston":MAILTO:outreach@xrboston.org
URL:https://xrboston.org/action/state-house-stand-out-info-session-7/
END:VEVENT
END:VCALENDAR
