BEGIN:VCALENDAR
VERSION:2.0
PRODID:-//Extinction Rebellion Boston//Action//
BEGIN:VEVENT
SUMMARY:Statehouse Standout 9/25
DTSTART:20250925T140000Z
DTEND:20250925T160000Z
DTSTAMP:20260421T225859Z
UID:2096@https://xrboston.org
CREATED:20260421T225859Z
DESCRIPTION:Event details: https://xrboston.org/action/statehouse-standout
 -925/\n\nEvery Tuesday and Thursday between 10am and 2pm volunteers stand 
 out at the Statehouse for 2-hour "shifts" either outside or inside dependi
 ng on weather\, and interact with visitors\, legislators and Statehouse st
 aff about the Climate Crisis. While there we keep up a daily stream of wri
 tten messages on prepared cards that are signed and hand delivered to legi
 slator's offices.\nThis is a great way to participate in the climate movem
 ent with no risk of arrest! Our persistent presence is our superpower\, an
 d we are now into our third year of this action. To get involved feel free
  to show up at any of the times listed above and connect with volunteers a
 lready on site. To find us check first the General Hooker entrance from Be
 acon Street and\, if we are not there check the Ashburton entrance on Bowd
 oin Street. Signs\, tabards and handouts are supplied. If you have questio
 ns please contact organizers at fossilfuels.standout.ma@proton.me
LAST-MODIFIED:20250921T234441Z
LOCATION:Mass Statehouse. Beacon Street\, Usually at the General Hooker En
 trance
ORGANIZER;CN="Extinction Rebellion Boston":MAILTO:outreach@xrboston.org
URL:https://xrboston.org/action/statehouse-standout-925/
END:VEVENT
END:VCALENDAR
