BEGIN:VCALENDAR
VERSION:2.0
PRODID:-//Extinction Rebellion Boston//Action//
BEGIN:VEVENT
SUMMARY:Look Up\, Step Up
DTSTART:20220724T164500Z
DTEND:20220724T184500Z
DTSTAMP:20260419T181924Z
UID:1236@https://xrboston.org
CREATED:20260419T181924Z
DESCRIPTION:Event details: https://xrboston.org/action/step-up-2022-07-24/
 \n\nThe Social and Racial Justice Ministry of St. Cecilia Parish is hostin
 g this talk:\nJoin members of **Extinction Rebellion** to learn about our 
 **plan** to confront the climate and ecological emergency! \n\n*"The alarm
  bells are deafening\, and the evidence is irrefutable: greenhouse-gas emi
 ssions from fossil-fuel burning and deforestation are choking our planet a
 nd putting billions of people at immediate risk ... if we combine forces n
 ow\, we can avert climate catastrophe."* -- UN Secretary General António 
 Guterres\n\nIt's easy to feel overwhelmed by the scale of what we are faci
 ng. That is why we need each and every one of us to come together while th
 ere is still time to act. \n\n*"These crises present us with the need to t
 ake decisions\, radical decisions that are not always easy. At the same ti
 me\, moments of difficulty like these also present opportunities\, opportu
 nities that we must not waste."* -- Pope Francis\n\nWe are inviting you to
  open your hearts and explore new possibilities. It's time to stop feeling
  powerless and alone and get to know other local people who want to make a
  difference\, too.\n\nThe talk will be about one hour and there will be ti
 me for Q&A. \n\nWe will be in the Community Room: Enter at the glass doors
  to the right of the church and go downstairs. The talk will start soon af
 ter the mass ends\, around 12:45.
LAST-MODIFIED:20220718T164710Z
LOCATION:St Cecilia Parish\, Boston
ORGANIZER;CN="Extinction Rebellion Boston":MAILTO:outreach@xrboston.org
URL:https://xrboston.org/action/step-up-2022-07-24/
END:VEVENT
END:VCALENDAR
