BEGIN:VCALENDAR
VERSION:2.0
PRODID:-//Extinction Rebellion Boston//Action//
BEGIN:VEVENT
SUMMARY:Stop Burning Down the House
DTSTART:20220924T180000Z
DTEND:20220924T200000Z
DTSTAMP:20260420T145950Z
UID:1278@https://xrboston.org
CREATED:20260420T145950Z
DESCRIPTION:Event details: https://xrboston.org/action/stop-burning-down-t
 he-house/\n\n**Start Time:  2 pm on Saturday 9/24**\n\n**Location: Startin
 g at Dewey Square and marching to Columbus Park**\n\nJoin us for a march a
 nd party at the peak of XR Boston's first Week of Rebellion. We will get i
 nto the streets to dance and party! We will meet at Dewey Square at 2:00 t
 hem march to Christopher Columbus Waterfront Park at 2:45\, followed by va
 rious activities including dancing\, food\, a People's Assembly\, do-it-to
 gether art and more... \n\nThough this action is at the end of the Week or
  Rebellion\, this will be the beginning of a much larger mass climate move
 ment in Boston. Through celebrating what we have accomplished as environme
 ntal activists and imagining a future free of fossil fuels\, we will culti
 vate the resolve to plug in and commit to ending the fossil fuel industry.
 \n\nOur house is on fire. When your house is on fire\, you need a smoke al
 arm that is dedicated in its full effort to dealing with the infernal emer
 gency. The smoke alarm must wake up all of the residents of the home so th
 ey may get out\, it must alert the fire department that there is a fire th
 at must be put out\, and it must expose the fact that there are arsonists 
 burning down the house with flammable fuel. \n\nExtinction Rebellion is th
 at smoke alarm that is waking up our society from its deep slumber. These 
 are the final years we have as a species to prevent climate breakdown and 
 mass extinction. We must all resolve to getting into the streets and endin
 g the fossil fuel industry before it kills us all. Help Extinction Rebelli
 on Boston get the state to take the first step by putting a moratorium on 
 new fossil fuel infrastructure.
LAST-MODIFIED:20220923T210755Z
LOCATION:Dewey Square\, Boston\, MA
ORGANIZER;CN="Extinction Rebellion Boston":MAILTO:outreach@xrboston.org
URL:https://xrboston.org/action/stop-burning-down-the-house/
END:VEVENT
END:VCALENDAR
