BEGIN:VCALENDAR
VERSION:2.0
PRODID:-//Extinction Rebellion Boston//Action//
BEGIN:VEVENT
SUMMARY:Stop the Plastic Pollution Tsunami!
DTSTART:20220720T190000Z
DTEND:20220720T210000Z
DTSTAMP:20260419T181924Z
UID:1234@https://xrboston.org
CREATED:20260419T181924Z
DESCRIPTION:Event details: https://xrboston.org/action/stop-the-plastic-po
 llution-tsunami/\n\nJoin Beyond Plastics Greater Boston to demand legislat
 ive and corporate change at the Anti-Plastic Rally\, Action and March on W
 ednesday\, July 20th. The event starts at 3:00 pm at the Massachusetts Sta
 te House. It will conclude at 5:00 pm at South Station. There will be spea
 kers\, live music and more!\n\n[RSVP Here](https://bit.ly/rsvp-stop-plasti
 c) \n\n**Rain Date:**  Thursday\, July 21\, 3-5\, for extreme weather only
 . \n\n**For more information\, contact:** beyondplasticsgreaterboston@gmai
 l.com\n\n**Facebook:** Beyond Plastics Greater Boston\n\n**Instagram:** Pl
 astic Free Mass
LAST-MODIFIED:20220715T133332Z
LOCATION:Massachusetts State House
ORGANIZER;CN="Extinction Rebellion Boston":MAILTO:outreach@xrboston.org
URL:https://xrboston.org/action/stop-the-plastic-pollution-tsunami/
END:VEVENT
END:VCALENDAR
