BEGIN:VCALENDAR
VERSION:2.0
PRODID:-//Extinction Rebellion Boston//Action//
BEGIN:VEVENT
SUMMARY:Chapter Strategy Discussion Session #2
DTSTART:20240303T220000Z
DTEND:20240304T000000Z
DTSTAMP:20260425T164128Z
UID:1719@https://xrboston.org
CREATED:20260425T164128Z
DESCRIPTION:Event details: https://xrboston.org/action/strategydiscussion/
 \n\nAll XR Boston members are welcomed to join in a second strategy discus
 sion session.\n\nIn December\, many members of our chapter met to discuss 
 two questions: *What do we think about continuing with our No New Fossil F
 uel Infrastructure campaign demand for the Commonwealth?*\, and *How can w
 e as a chapter work more effectively toward generating mass civil disobedi
 ence to disrupt ‘business as usual’? *\n\nThese questions probed into 
 aspects of our campaign demand\, our messaging\, our action strategy\, and
  the way we organize ourselves. These conversations were valuable in under
 standing the challenges our chapter faces and how we may face them. \n\nWe
  would like to continue the threads of that previous discussion from Decem
 ber. Like last time\, this will be a loosely facilitated discussion consis
 ting of small group discussion followed by a large group harvest session. 
 Note that this a space for open discussion and is not a time where decisio
 ns are made. An agenda will be shared well in advance to all who RSVP and 
 will contain discussion topics.\n\nWe will begin at 5:00pm and wrap up by 
 7:30pm. This is in-person in the Rosa Parks Room at the Democracy Center i
 n Cambridge. Food (vegan options) and beverages will be provided.\n\nCovid
  policy per the Democracy Center: Masks and vaccination are encouraged but
  not required to attend. The Democracy Center runs air purifiers in the sp
 ace at all times.
LAST-MODIFIED:20240130T220350Z
LOCATION:The Democracy Center\, Cambridge
ORGANIZER;CN="Extinction Rebellion Boston":MAILTO:outreach@xrboston.org
URL:https://xrboston.org/action/strategydiscussion/
END:VEVENT
END:VCALENDAR
