BEGIN:VCALENDAR
VERSION:2.0
PRODID:-//Extinction Rebellion Boston//Action//
BEGIN:VEVENT
SUMMARY:Sunday Drop in Art Build at the Puppet Free Library
DTSTART:20240114T180000Z
DTEND:20240114T200000Z
DTSTAMP:20260425T173414Z
UID:1718@https://xrboston.org
CREATED:20260425T173414Z
DESCRIPTION:Event details: https://xrboston.org/action/sunday-drop-in-art-
 build-puppet-free-library/\n\nDrop into the Puppet Free Library between 1p
 m and 3pm to help us block print love-themed patches for the upcoming [Gen
 eral Meeting and New Year Kickoff](https://xrboston.org/action/general-mee
 ting-jan2024/)!\n\nWe will supply the materials\, you bring your enthusias
 m and love for our planet. Art skills not necessary!
LAST-MODIFIED:20240112T183214Z
LOCATION:Puppet Free Library
ORGANIZER;CN="Extinction Rebellion Boston":MAILTO:outreach@xrboston.org
URL:https://xrboston.org/action/sunday-drop-in-art-build-puppet-free-libra
 ry/
END:VEVENT
END:VCALENDAR
