BEGIN:VCALENDAR
VERSION:2.0
PRODID:-//Extinction Rebellion Boston//Action//
BEGIN:VEVENT
SUMMARY:(SOLIDARITY) SunDay: Sun Way Pilgrimage and Inter-Faith Service an
 d Celebration
DTSTART:20250921T170000Z
DTEND:20250921T190000Z
DTSTAMP:20260421T230717Z
UID:2144@https://xrboston.org
CREATED:20260421T230717Z
DESCRIPTION:Event details: https://xrboston.org/action/sunday-sun-way-pilg
 rimage-solidarity/\n\nJoin other XR Rebels in supporting our local SunDay 
 Global Day of Action. Feel free to bring XR flags and signs. We will suppl
 y  sun themed banners.  \n\nHere is the event description from the organiz
 ers: \n\nSunDay is a global day of action on September 21st\, 2025\, celeb
 rating the unstoppable rise of clean energy. We’ll come together to show
 case the power of the sun and wind -- energy sources that can power our wo
 rld without pollution.\n\nOur short walk (approx. 1 mile)\, led by joyous 
 brass band music\, will start at 1:00 pm at the Old South Church and conti
 nues to the Brewer Fountain in the Boston Common\, with a brief multi-fait
 h celebration of hope. All are welcome\, especially families\, whether gui
 ded by faith or personal conviction.\n\nSpeakers will include the dynamic 
 [Rev. Mariama White-Hammond](https://www.newroots.church/rev-mariama)!\n\n
 Led by Boston Interfaith Climate Allies (BICA) with support from Third Act
  Massachusetts and GreenFaith.\n\nFor more details see [bica.earth](https:
 //www.cotcbos.org/sun-way-pilgrimage.html).
LAST-MODIFIED:20250830T222924Z
LOCATION:Old South Church•645 Boylston St\, Boston\, MA 02116 US
ORGANIZER;CN="Extinction Rebellion Boston":MAILTO:outreach@xrboston.org
URL:https://xrboston.org/action/sunday-sun-way-pilgrimage-solidarity/
END:VEVENT
END:VCALENDAR
