BEGIN:VCALENDAR
VERSION:2.0
PRODID:-//Extinction Rebellion Boston//Action//
BEGIN:VEVENT
SUMMARY:Look Up\, Step Up - in the park
DTSTART:20220522T180000Z
DTEND:20220522T200000Z
DTSTAMP:20260421T103720Z
UID:1172@https://xrboston.org
CREATED:20260421T103720Z
DESCRIPTION:Event details: https://xrboston.org/action/talk-05-22-22/\n\n"
 The alarm bells are deafening\, and the evidence is irrefutable: greenhous
 e-gas emissions from fossil-fuel burning and deforestation are choking our
  planet and putting billions of people at immediate risk ... if we combine
  forces now\, we can avert climate catastrophe." -- UN Secretary General\,
  Antonio Guterres\n\n\nPoliticians are failing to take the action we need 
 to avoid devastating climate change. But we can still take action together
  to ensure our children have a future.\n\nIt's easy to feel overwhelmed by
  the scale of what we are facing and that's why we need each and every one
  of us to come together while there's still time to act. \n\nSo we're invi
 ting you to join us at the [Southwest Corridor Park](https://goo.gl/maps/K
 3kYctzyjN5xpwB28)\, across the street from the Stony Brook T Stop in Jamai
 ca Plain\, to a free talk on the climate and ecological crisis and what we
  can do about it.\n\nIt's time to stop feeling powerless and alone and get
  to know other local people who want to make a difference too.\n\nThe talk
  will last for around 45 minutes and there will be time for Q&A.
LAST-MODIFIED:20220507T155749Z
LOCATION:https://goo.gl/maps/K3kYctzyjN5xpwB28
ORGANIZER;CN="Extinction Rebellion Boston":MAILTO:outreach@xrboston.org
URL:https://xrboston.org/action/talk-05-22-22/
END:VEVENT
END:VCALENDAR
