BEGIN:VCALENDAR
VERSION:2.0
PRODID:-//Extinction Rebellion Boston//Action//
BEGIN:VEVENT
SUMMARY:[Solidarity] The Brattle: How to Blow Up a Pipeline screening
DTSTART:20240130T020000Z
DTEND:20240130T040000Z
DTSTAMP:20260425T133731Z
UID:1721@https://xrboston.org
CREATED:20260425T133731Z
DESCRIPTION:Event details: https://xrboston.org/action/the-brattle-how-to-
 blow-up-a-pipeline/\n\nAnother chance to catch the film "How To Blow Up a 
 Pipeline" in theaters\, at the Brattle in Harvard Square\, one night only:
  https://brattlefilm.org/movies/how-to-blow-up-a-pipeline/\n\nNote\, this 
 is a commercial screening of the film\, not organized by XR Boston. You wi
 ll have to buy a ticket from the website above.\n\nA nailbiter of a proced
 ural\, PIPELINE follows a group of activists who have come together for a 
 high-stakes act of extreme eco-protest by attempting to blow up an isolate
 d length of oil pipeline. \n\n“It’s hard to think of another film as e
 mphatically\, passionately and furiously of the moment as this one.” –
  Wendy Ide\, Observer (UK)\n\n“Don’t sleep on Daniel Goldhaber’s ‘
 How To Blow Up A Pipeline’\, one of the best films of 2023. Thrilling\, 
 urgent and angry\, but as focused on the humans involved as the pressing i
 ssues at hand. Brilliantly structured and edited too. And a superb\, insis
 tent score by Gavin Brivik.” – Edgar Wright
LAST-MODIFIED:20240118T204605Z
LOCATION:40 Brattle St\, Cambridge\, MA 02138
ORGANIZER;CN="Extinction Rebellion Boston":MAILTO:outreach@xrboston.org
URL:https://xrboston.org/action/the-brattle-how-to-blow-up-a-pipeline/
END:VEVENT
END:VCALENDAR
