BEGIN:VCALENDAR
VERSION:2.0
PRODID:-//Extinction Rebellion Boston//Action//
BEGIN:VEVENT
SUMMARY:Training Workshop: Crafting a Newsletter!
DTSTART:20250428T223000Z
DTEND:20250429T003000Z
DTSTAMP:20260424T043408Z
UID:2052@https://xrboston.org
CREATED:20260424T043408Z
DESCRIPTION:Join online: <a href="https://us02web.zoom.us/j/89668721112?pw
 d=AdrLnO0TN6IBGbJiaG4eXpYKDYZjKB.1">https://us02web.zoom.us/j/89668721112?
 pwd=AdrLnO0TN6IBGbJiaG4eXpYKDYZjKB.1</a>\n\nEvent details: <a href="https:
 //xrboston.org/action/training-crafting-the-xr-boston-newsletter/">https:/
 /xrboston.org/action/training-crafting-the-xr-boston-newsletter/</a>\n\nDo
  you enjoy XR Boston's weekly newsletter? It's one of the main forms of co
 mmunication with our larger community. It's how we share about upcoming ev
 ents and celebrate our successes. Our newsletter team is small but mighty\
 , and we want to train YOU to do what we do! In this evening workshop\, yo
 u'll learn how to use the Action Network online email system\, draft a wee
 kly newsletter\, and distribute it to subscribers. This is a helpful skill
  for language-minded people looking for ways to get involved in the moveme
 nt.\n\nThis online workshop will last from 6:30 pm to 8:15 pm and particip
 ants will be invited to contribute topics and writing for an upcoming news
 letter. We encourage you to come prepared with article ideas\, short writt
 en pieces\, and/or photos!\n\nIf you are unable to attend this workshop bu
 t would like to receive the workshop recording afterwards\, please email x
 rboston.media@gmail.com and it will be sent to you. If you aren't yet subs
 cribed to the XR Boston newsletter\, sign up here! It's only once a week a
 nd it's a good read: https://xrboston.org/join/\n\n-::~:~::~:~:~:~:~:~:~:~
 :~:~:~:~:~:~:~:~:~:~:~:~:~:~:~:~:~:~:~:~:~:~:~:~:~:~:~:~::~:~::-\nDo not e
 dit this section of the description.\n\nThis event has a video call.\nJoin
 : https://us02web.zoom.us/j/89668721112?pwd=AdrLnO0TN6IBGbJiaG4eXpYKDYZjKB
 .1\n\nView your event at https://xrboston.org/action/training-crafting-the
 -xr-boston-newsletter/\n-::~:~::~:~:~:~:~:~:~:~:~:~:~:~:~:~:~:~:~:~:~:~:~:
 ~:~:~:~:~:~:~:~:~:~:~:~:~:~:~::~:~::-
LAST-MODIFIED:20250404T155151Z
LOCATION:Online event
ORGANIZER;CN="Extinction Rebellion Boston":MAILTO:outreach@xrboston.org
URL:https://xrboston.org/action/training-crafting-the-xr-boston-newsletter
 /
END:VEVENT
END:VCALENDAR
