BEGIN:VCALENDAR
VERSION:2.0
PRODID:-//Extinction Rebellion Boston//Action//
BEGIN:VEVENT
SUMMARY:Training: Peacekeeping and De-escalation
DTSTART:20250828T200000Z
DTEND:20250828T220000Z
DTSTAMP:20260422T002623Z
UID:1991@https://xrboston.org
CREATED:20260422T002623Z
DESCRIPTION:Event details: https://xrboston.org/action/training-peacekeepi
 ng-and-de-escalation-aug-25/\n\nTIME CHANGE - Training will start at **4:0
 0pm**\, not 6:00pm\n\n***Join us in-person!! Weather permitting\, location
  to be announced as date approaches***\n\nCome learn about support roles f
 or Extinction Rebellion Boston and different ways you can show up for the 
 climate crisis movement.\n\nPeacekeeping & deescalation: Learn how to keep
  protesters and bystanders safe during actions by acting as a guide in par
 ades\, marches\, and blocks\, and strategies for dealing with harassment\,
  hecklers\, etc.
LAST-MODIFIED:20251218T145903Z
LOCATION:Downtown Boston - register for exact location
ORGANIZER;CN="Extinction Rebellion Boston":MAILTO:outreach@xrboston.org
URL:https://xrboston.org/action/training-peacekeeping-and-de-escalation-au
 g-25/
END:VEVENT
END:VCALENDAR
