BEGIN:VCALENDAR
VERSION:2.0
PRODID:-//Extinction Rebellion Boston//Action//
BEGIN:VEVENT
SUMMARY:Training: Peacekeeping and De-escalation
DTSTART:20251217T000000Z
DTEND:20251217T020000Z
DTSTAMP:20260421T184525Z
UID:1995@https://xrboston.org
CREATED:20260421T184525Z
DESCRIPTION:Event details: https://xrboston.org/action/training-peacekeepi
 ng-and-de-escalation-dec-25/\n\nCome learn about support roles for Extinct
 ion Rebellion Boston and different ways you can show up for the climate cr
 isis movement.\n\nPeacekeeping & deescalation: Learn how to keep protester
 s and bystanders safe during actions by acting as a guide in parades\, mar
 ches\, and blocks\, and strategies for dealing with harassment\, hecklers\
 , etc.
LAST-MODIFIED:20251218T150241Z
LOCATION:online
ORGANIZER;CN="Extinction Rebellion Boston":MAILTO:outreach@xrboston.org
URL:https://xrboston.org/action/training-peacekeeping-and-de-escalation-de
 c-25/
END:VEVENT
END:VCALENDAR
