BEGIN:VCALENDAR
VERSION:2.0
PRODID:-//Extinction Rebellion Boston//Action//
BEGIN:VEVENT
SUMMARY:Training: Peacekeeping and De-escalation
DTSTART:20251119T000000Z
DTEND:20251119T020000Z
DTSTAMP:20260420T084120Z
UID:1994@https://xrboston.org
CREATED:20260420T084120Z
DESCRIPTION:Event details: https://xrboston.org/action/training-peacekeepi
 ng-and-de-escalation-nov-25/\n\n***Please note this training is held over 
 Signal. Login information will be sent over email after registering. If yo
 u have registered already\, check your inbox for the reminder and info.***
 \n\nCome learn about support roles for Extinction Rebellion Boston and dif
 ferent ways you can show up for the climate crisis movement.\n\nPeacekeepi
 ng & deescalation: Learn how to keep protesters and bystanders safe during
  actions by acting as a guide in parades\, marches\, and blocks\, and stra
 tegies for dealing with harassment\, hecklers\, etc.
LAST-MODIFIED:20251218T145350Z
LOCATION:online
ORGANIZER;CN="Extinction Rebellion Boston":MAILTO:outreach@xrboston.org
URL:https://xrboston.org/action/training-peacekeeping-and-de-escalation-no
 v-25/
END:VEVENT
END:VCALENDAR
