BEGIN:VCALENDAR
VERSION:2.0
PRODID:-//Extinction Rebellion Boston//Action//
BEGIN:VEVENT
SUMMARY:Resked to 10/22 at the General Mtg: Training: Peacekeeping and De-
 escalation
DTSTART:20251021T220000Z
DTEND:20251022T000000Z
DTSTAMP:20260420T084258Z
UID:1993@https://xrboston.org
CREATED:20260420T084258Z
DESCRIPTION:Event details: https://xrboston.org/action/training-peacekeepi
 ng-and-de-escalation-oct-25/\n\n***Rescheduled to Wednesday 10/22 as part 
 of the General Meeting***\n\n***Join us in-person!! ***\n\nCome learn abou
 t support roles for Extinction Rebellion Boston and different ways you can
  show up for the climate crisis movement.\n\nPeacekeeping & deescalation: 
 Learn how to keep protesters and bystanders safe during actions by acting 
 as a guide in parades\, marches\, and blocks\, and strategies for dealing 
 with harassment\, hecklers\, etc.
LAST-MODIFIED:20251218T145529Z
LOCATION:TBD
ORGANIZER;CN="Extinction Rebellion Boston":MAILTO:outreach@xrboston.org
URL:https://xrboston.org/action/training-peacekeeping-and-de-escalation-oc
 t-25/
END:VEVENT
END:VCALENDAR
