BEGIN:VCALENDAR
VERSION:2.0
PRODID:-//Extinction Rebellion Boston//Action//
BEGIN:VEVENT
SUMMARY:Training Series: Arrest Support
DTSTART:20240229T233000Z
DTEND:20240301T013000Z
DTSTAMP:20260425T152259Z
UID:1704@https://xrboston.org
CREATED:20260425T152259Z
DESCRIPTION:Join online: <a href="https://us02web.zoom.us/j/84904175064?pw
 d=aWNWS290bnVEWmhkOXpFRFpqdFlqQT09">https://us02web.zoom.us/j/84904175064?
 pwd=aWNWS290bnVEWmhkOXpFRFpqdFlqQT09</a>\n\nEvent details: <a href="https:
 //xrboston.org/action/training-series-arrest-support-feb24/">https://xrbos
 ton.org/action/training-series-arrest-support-feb24/</a>\n\nAre you curiou
 s to learn more about different support roles for Extinction Rebellion Bos
 ton?\n\nJoin us for this session of this training series for\n\nArrest sup
 port: Provides direct personal support for arrestable people. They have al
 l relevant personal information\, will take the call from the police stati
 on\, provide support when released at the police station by bringing water
 \, snacks\, and making sure everyone gets home safely. They also can be co
 ntact to your loved ones\, and make sure to feed your plants or water your
  goldfish.\nOther trainings in this series include:\n\n* Peacekeeping & De
 escalation: Help guide people where to go and keep protest safe by blockin
 g traffic block of streets for us along the parade route.\n\n* Police Liai
 son: Conveys information and demands between the police and the group befo
 re/during actions. Helps to keep the police calm and reminds them of our n
 on-violence.\n\n* Media Support: Helps facilitate the interactions between
  the group and the media. Prepares press releases\, coordinates photograph
 y\, live-streaming\, and footage to edit.\n\n-::~:~::~:~:~:~:~:~:~:~:~:~:~
 :~:~:~:~:~:~:~:~:~:~:~:~:~:~:~:~:~:~:~:~:~:~:~:~:~::~:~::-\nDo not edit th
 is section of the description.\n\nThis event has a video call.\nJoin: http
 s://us02web.zoom.us/j/84904175064?pwd=aWNWS290bnVEWmhkOXpFRFpqdFlqQT09\n\n
 View your event at https://xrboston.org/action/training-series-arrest-supp
 ort-feb24/\n-::~:~::~:~:~:~:~:~:~:~:~:~:~:~:~:~:~:~:~:~:~:~:~:~:~:~:~:~:~:
 ~:~:~:~:~:~:~:~:~::~:~::-
LAST-MODIFIED:20240110T233306Z
LOCATION:Online event
ORGANIZER;CN="Extinction Rebellion Boston":MAILTO:outreach@xrboston.org
URL:https://xrboston.org/action/training-series-arrest-support-feb24/
END:VEVENT
END:VCALENDAR
