BEGIN:VCALENDAR
VERSION:2.0
PRODID:-//Extinction Rebellion Boston//Action//
BEGIN:VEVENT
SUMMARY:Training Series: Peacekeeping & Deescalation
DTSTART:20230404T230000Z
DTEND:20230405T010000Z
DTSTAMP:20260421T121908Z
UID:1472@https://xrboston.org
CREATED:20260421T121908Z
DESCRIPTION:Join online: <a href="https://us02web.zoom.us/meeting/register
 /tZMkf-qoqD0tHdxosVssgzNUwi_dYEGdEAIM">https://us02web.zoom.us/meeting/reg
 ister/tZMkf-qoqD0tHdxosVssgzNUwi_dYEGdEAIM</a>\n\nEvent details: <a href="
 https://xrboston.org/action/training-series-peacekeeping-apr23/">https://x
 rboston.org/action/training-series-peacekeeping-apr23/</a>\n\nAre you curi
 ous to learn more about different support roles for Extinction Rebellion B
 oston?\n\nJoin us for the second session of this training series for\n\n**
 Peacekeeping & deescalation:** Help guide people where to go and keep prot
 est safe by blocking traffic block of streets for us along the parade rout
 e.\n\nOther sessions will include:\n\n* [Police Liaison (April)](): Convey
 s information and demands between the police and the group before/during a
 ctions. Helps to keep the police calm and reminds them of our non-violence
 .\n\n* Media Support (May): Helps facilitate the interactions between the 
 group and the media. Prepares press releases\, coordinates photography\, l
 ive-streaming\, and footage to edit.\n\n* Arrest support (June): Provides 
 direct personal support for arrestable people. They have all relevant pers
 onal information\, will take the call from the police station\, provide su
 pport at the police station and makes sure everyone gets home safely.\n\n-
 ::~:~::~:~:~:~:~:~:~:~:~:~:~:~:~:~:~:~:~:~:~:~:~:~:~:~:~:~:~:~:~:~:~:~:~:~
 :~:~::~:~::-\nDo not edit this section of the description.\n\nThis event h
 as a video call.\nJoin: https://us02web.zoom.us/meeting/register/tZMkf-qoq
 D0tHdxosVssgzNUwi_dYEGdEAIM\n\nView your event at https://xrboston.org/act
 ion/training-series-peacekeeping-apr23/\n-::~:~::~:~:~:~:~:~:~:~:~:~:~:~:~
 :~:~:~:~:~:~:~:~:~:~:~:~:~:~:~:~:~:~:~:~:~:~:~::~:~::-
LAST-MODIFIED:20230316T211645Z
LOCATION:Online event
ORGANIZER;CN="Extinction Rebellion Boston":MAILTO:outreach@xrboston.org
URL:https://xrboston.org/action/training-series-peacekeeping-apr23/
END:VEVENT
END:VCALENDAR
