BEGIN:VCALENDAR
VERSION:2.0
PRODID:-//Extinction Rebellion Boston//Action//
BEGIN:VEVENT
SUMMARY:T-shirt and Earth Day Art Build at Artisan's Asylum
DTSTART:20250406T170000Z
DTEND:20250406T190000Z
DTSTAMP:20260424T043813Z
UID:2015@https://xrboston.org
CREATED:20260424T043813Z
DESCRIPTION:Event details: https://xrboston.org/action/tshirt-and-earth-da
 y-art-build-at-a2/\n\nDrop in to Artisan's Asylum between 1pm and 3pm to h
 elp us screen print XR t-shirts and prepare art for Earth Day! ([Here's th
 e link](https://www.xrboston.org/unitedwerage) to our "United We Rage! For
  the People\, For the Planet" march on 4/26!)\n\nPlease bring a t-shirt fo
 r printing if you would like to take one home.  There will also be supplie
 s for block printing t-shirts and patches.  We supply the materials\, you 
 bring your enthusiasm. Art skills not necessary!\n\nFeel free to wear a ma
 sk\, but they are not required. If you are feeling unwell\, please stay ho
 me and join us at a future art build.
LAST-MODIFIED:20250406T142719Z
LOCATION:[Artisans Asylum](https://maps.app.goo.gl/CZn6DMd2hyYoBFFR8)
ORGANIZER;CN="Extinction Rebellion Boston":MAILTO:outreach@xrboston.org
URL:https://xrboston.org/action/tshirt-and-earth-day-art-build-at-a2/
END:VEVENT
END:VCALENDAR
