BEGIN:VCALENDAR
VERSION:2.0
PRODID:-//Extinction Rebellion Boston//Action//
BEGIN:VEVENT
SUMMARY:Tunnel of Love and Rage
DTSTART:20240210T220000Z
DTEND:20240211T000000Z
DTSTAMP:20260425T151253Z
UID:1727@https://xrboston.org
CREATED:20260425T151253Z
DESCRIPTION:Event details: https://xrboston.org/action/tunnel-of-love-and-
 rage-20240210/\n\nJoin us to sing *Love Songs for the Planet* and use our 
 special XR photo frame at the Tunnel of Love valentine's lights display!\n
 \nThis is a fun outreach activity that anybody can join. Help us to engage
  passersby in cheeky conversations and hand out valentines to remember our
  love for the planet. We invite people to tell us what they love and then 
 encourage them to do what is necessary to protect all that. Let us spread 
 our message of climate emergency and resistance in a creative\, regenerati
 ve action! \n\nWe will gather at the Christopher Columbus Waterfront Park 
 from 5 pm to 7pm.
LAST-MODIFIED:20240205T115027Z
LOCATION:Christopher Columbus Park\, Boston
ORGANIZER;CN="Extinction Rebellion Boston":MAILTO:outreach@xrboston.org
URL:https://xrboston.org/action/tunnel-of-love-and-rage-20240210/
END:VEVENT
END:VCALENDAR
