BEGIN:VCALENDAR
VERSION:2.0
PRODID:-//Extinction Rebellion Boston//Action//
BEGIN:VEVENT
SUMMARY:Update from XR's Fiscal Sponsor
DTSTART:20251006T223000Z
DTEND:20251007T003000Z
DTSTAMP:20260421T213712Z
UID:2164@https://xrboston.org
CREATED:20260421T213712Z
DESCRIPTION:Join online: <a href="https://us02web.zoom.us/j/86057672076?pw
 d=RZRab2hTqULqwzbJex3bble5yCwDFK.1">https://us02web.zoom.us/j/86057672076?
 pwd=RZRab2hTqULqwzbJex3bble5yCwDFK.1</a>\n\nEvent details: <a href="https:
 //xrboston.org/action/update-from-xrs-fiscal-sponsor/">https://xrboston.or
 g/action/update-from-xrs-fiscal-sponsor/</a>\n\nJoin the new board of Clim
 ate Direct Action Education Fund (CDAEF)\, XR Boston's fiscal sponsor\, to
  hear updates about the board's responsibilities\, recent activities\, and
  plans for the future. There will be a presentation followed by time for q
 uestions\, comments and suggestions.\n\nThis session will be recorded. If 
 you would like the recording\, please email climate.direct.action.ef@gmail
 .com.\n\n-::~:~::~:~:~:~:~:~:~:~:~:~:~:~:~:~:~:~:~:~:~:~:~:~:~:~:~:~:~:~:~
 :~:~:~:~:~:~:~::~:~::-\nDo not edit this section of the description.\n\nTh
 is event has a video call.\nJoin: https://us02web.zoom.us/j/86057672076?pw
 d=RZRab2hTqULqwzbJex3bble5yCwDFK.1\n\nView your event at https://xrboston.
 org/action/update-from-xrs-fiscal-sponsor/\n-::~:~::~:~:~:~:~:~:~:~:~:~:~:
 ~:~:~:~:~:~:~:~:~:~:~:~:~:~:~:~:~:~:~:~:~:~:~:~:~::~:~::-
LAST-MODIFIED:20250927T212107Z
LOCATION:Online event
ORGANIZER;CN="Extinction Rebellion Boston":MAILTO:outreach@xrboston.org
URL:https://xrboston.org/action/update-from-xrs-fiscal-sponsor/
END:VEVENT
END:VCALENDAR
