BEGIN:VCALENDAR
VERSION:2.0
PRODID:-//Extinction Rebellion Boston//Action//
BEGIN:VEVENT
SUMMARY:Valentines on the T
DTSTART:20240212T200000Z
DTEND:20240212T220000Z
DTSTAMP:20260425T151010Z
UID:1730@https://xrboston.org
CREATED:20260425T151010Z
DESCRIPTION:Event details: https://xrboston.org/action/valentines-on-the-t
 -20240212/\n\nJoin us as we dress up as Valentine’s Day cupids and ride 
 the Red Line! \n\nWe will be passing out Valentines to commuters to thank 
 them for showing their love for Mother Earth by taking the T and to invite
  them to show even more love by joining Extinction Rebellion and our upcom
 ing Earth Day Celebration on April 22.\n\nPlease RSVP below to receive upd
 ates\, details on where exactly we will meet\, and Cupid wings (while supp
 lies last)!
LAST-MODIFIED:20240202T174241Z
LOCATION:Park Street Station\, Boston
ORGANIZER;CN="Extinction Rebellion Boston":MAILTO:outreach@xrboston.org
URL:https://xrboston.org/action/valentines-on-the-t-20240212/
END:VEVENT
END:VCALENDAR
