BEGIN:VCALENDAR
VERSION:2.0
PRODID:-//Extinction Rebellion Boston//Action//
BEGIN:VEVENT
SUMMARY:Wake Up the Earth Festival (Solidarity Action)
DTSTART:20220507T163000Z
DTEND:20220507T183000Z
DTSTAMP:20260421T102840Z
UID:1157@https://xrboston.org
CREATED:20260421T102840Z
DESCRIPTION:Event details: https://xrboston.org/action/wake-up-the-earth-f
 estival-solidarity-action/\n\nHelp Wake Up the Earth from her winter sleep
  while celebrating People Power in Jamaica Plain in this family-friendly c
 ommunity festival. The first Wake Up the Earth Festival took place in 1979
  to celebrate the defeat of a highway project that was planed to cut throu
 gh the heart of JP in the late 1960s.  Each year the residents of JP come 
 together in a Spontaneous  Celebration to celebrate Nature\, Community and
  Democracy on the piece of earth that almost became a highway. This year E
 xtinction Rebellion will join the celebration through participating in the
  annual Circle Dance with our Bumble Bee and XR Flags. Come join the celeb
 ration! \n\n12:30PM - Meeting to plan the Circle Dance \n\n1:30PM - XR mem
 bers will participate in the Circle Dance with Bee and XR Flags. \n\nIf yo
 u want to help hold Bee and XR Flags please click on this link\, [HERE.](h
 ttps://forms.gle/UdMR1gWgV14ucApD9)
LAST-MODIFIED:20220427T212440Z
LOCATION:Stony Brook T Station\, Jamaica Plain
ORGANIZER;CN="Extinction Rebellion Boston":MAILTO:outreach@xrboston.org
URL:https://xrboston.org/action/wake-up-the-earth-festival-solidarity-acti
 on/
END:VEVENT
END:VCALENDAR
