BEGIN:VCALENDAR
VERSION:2.0
PRODID:-//Extinction Rebellion Boston//Action//
BEGIN:VEVENT
SUMMARY:Week of Rebellion: Climate Zine Class and Collaborative Art Activi
 ty
DTSTART:20230919T220000Z
DTEND:20230920T000000Z
DTSTAMP:20260422T101330Z
UID:1621@https://xrboston.org
CREATED:20260422T101330Z
DESCRIPTION:Event details: https://xrboston.org/action/week-of-rebellion-r
 egenerative-art-making/\n\nJoin us for a short class on zine making\, then
  a casual group art activity! Make your own zine page on a climate theme\,
  to be compiled into a collaborative book. You don't have to consider your
 self an artist! We'll have materials for collaging\, stamps\, as well as a
 ll sorts of other art and writing supplies. Do your own thing\, share idea
 s and visions\, express yourself\, and have fun.\n\nTheme: "We're in the m
 idst of the climate crisis\, and it's a time of great uncertainty...the kn
 ife's edge between the great turning and the great unravelling. Envision w
 hat either\, or both\, of those realities look like\, now or in the future
 ."\n\nThe Puppet Free Library is a unique little space nestled in the base
 ment of a church. The door to it is in an alley off the Boston Public Gard
 en\, and is a bit out of the way\, but don't worry\, there'll be a sign!\n
 \n\n**[More Week of Rebellion Events / Information](https://www.xrboston.o
 rg/wor2023)**
LAST-MODIFIED:20230918T181135Z
LOCATION:[Puppet Free Library](https://goo.gl/maps/EPqJLESrJVxbuzpX)
ORGANIZER;CN="Extinction Rebellion Boston":MAILTO:outreach@xrboston.org
URL:https://xrboston.org/action/week-of-rebellion-regenerative-art-making/
END:VEVENT
END:VCALENDAR
