BEGIN:VCALENDAR
VERSION:2.0
PRODID:-//Extinction Rebellion Boston//Action//
BEGIN:VEVENT
SUMMARY:Welcome Call
DTSTART:20260412T143000Z
DTEND:20260412T163000Z
DTSTAMP:20260421T124814Z
UID:2237@https://xrboston.org
CREATED:20260421T124814Z
DESCRIPTION:Join online: <a href="https://us06web.zoom.us/j/84044537930?pw
 d=JhiltuEhRbtV1SbJ2SkaQd7taKiNrY.1">https://us06web.zoom.us/j/84044537930?
 pwd=JhiltuEhRbtV1SbJ2SkaQd7taKiNrY.1</a>\n\nEvent details: <a href="https:
 //xrboston.org/action/welcome-april12/">https://xrboston.org/action/welcom
 e-april12/</a>\n\nJoin us to learn how this global movement works\, what t
 he Boston Chapter has been up to\, and how to get plugged in! The call wil
 l last one hour.\n\nWe look forward to seeing you!\n\n-::~:~::~:~:~:~:~:~:
 ~:~:~:~:~:~:~:~:~:~:~:~:~:~:~:~:~:~:~:~:~:~:~:~:~:~:~:~:~:~::~:~::-\nDo no
 t edit this section of the description.\n\nThis event has a video call.\nJ
 oin: https://us06web.zoom.us/j/84044537930?pwd=JhiltuEhRbtV1SbJ2SkaQd7taKi
 NrY.1\n\nView your event at https://xrboston.org/action/welcome-april12/\n
 -::~:~::~:~:~:~:~:~:~:~:~:~:~:~:~:~:~:~:~:~:~:~:~:~:~:~:~:~:~:~:~:~:~:~:~:
 ~:~:~::~:~::-
LAST-MODIFIED:20260413T133633Z
LOCATION:Online event
ORGANIZER;CN="Extinction Rebellion Boston":MAILTO:outreach@xrboston.org
URL:https://xrboston.org/action/welcome-april12/
END:VEVENT
END:VCALENDAR
