BEGIN:VCALENDAR
VERSION:2.0
PRODID:-//Extinction Rebellion Boston//Action//
BEGIN:VEVENT
SUMMARY:Welcome Call
DTSTART:20250827T223000Z
DTEND:20250828T003000Z
DTSTAMP:20260422T002423Z
UID:2130@https://xrboston.org
CREATED:20260422T002423Z
DESCRIPTION:Event details: https://xrboston.org/action/welcome-call-aug27/
 \n\nJoin us to learn how this global movement works\, what the Boston Chap
 ter has been up to\, and how to get plugged in! The call will last one hou
 r.\n\nRSVP and the Zoom link will be emailed prior to the start.\n\nWe loo
 k forward to seeing you!
LAST-MODIFIED:20250822T235140Z
LOCATION:Zoom - RSVP on this page and the link will be sent in advance
ORGANIZER;CN="Extinction Rebellion Boston":MAILTO:outreach@xrboston.org
URL:https://xrboston.org/action/welcome-call-aug27/
END:VEVENT
END:VCALENDAR
