BEGIN:VCALENDAR
VERSION:2.0
PRODID:-//Extinction Rebellion Boston//Action//
BEGIN:VEVENT
SUMMARY:Welcome Call
DTSTART:20251203T233000Z
DTEND:20251204T013000Z
DTSTAMP:20260421T184211Z
UID:2187@https://xrboston.org
CREATED:20260421T184211Z
DESCRIPTION:Join online: <a href="https://us06web.zoom.us/j/84044537930?pw
 d=JhiltuEhRbtV1SbJ2SkaQd7taKiNrY.1">https://us06web.zoom.us/j/84044537930?
 pwd=JhiltuEhRbtV1SbJ2SkaQd7taKiNrY.1</a>\n\nEvent details: <a href="https:
 //xrboston.org/action/welcome-call-dec3/">https://xrboston.org/action/welc
 ome-call-dec3/</a>\n\nJoin us to learn how this global movement works\, wh
 at the Boston Chapter has been up to\, and how to get plugged in! The call
  will last one hour.\n\nWe look forward to seeing you!\n\n-::~:~::~:~:~:~:
 ~:~:~:~:~:~:~:~:~:~:~:~:~:~:~:~:~:~:~:~:~:~:~:~:~:~:~:~:~:~:~:~::~:~::-\nD
 o not edit this section of the description.\n\nThis event has a video call
 .\nJoin: https://us06web.zoom.us/j/84044537930?pwd=JhiltuEhRbtV1SbJ2SkaQd7
 taKiNrY.1\n\nView your event at https://xrboston.org/action/welcome-call-d
 ec3/\n-::~:~::~:~:~:~:~:~:~:~:~:~:~:~:~:~:~:~:~:~:~:~:~:~:~:~:~:~:~:~:~:~:
 ~:~:~:~:~:~::~:~::-
LAST-MODIFIED:20251204T223155Z
LOCATION:Online event
ORGANIZER;CN="Extinction Rebellion Boston":MAILTO:outreach@xrboston.org
URL:https://xrboston.org/action/welcome-call-dec3/
END:VEVENT
END:VCALENDAR
