BEGIN:VCALENDAR
VERSION:2.0
PRODID:-//Extinction Rebellion Boston//Action//
BEGIN:VEVENT
SUMMARY:Welcome Call
DTSTART:20250930T223000Z
DTEND:20251001T003000Z
DTSTAMP:20260421T225426Z
UID:2142@https://xrboston.org
CREATED:20260421T225426Z
DESCRIPTION:Event details: https://xrboston.org/action/welcome-call-sept25
 /\n\nJoin us to learn how this global movement works\, what the Boston Cha
 pter has been up to\, and how to get plugged in! The call will last one ho
 ur.\n\nRSVP and the Zoom link will be emailed prior to the start.\n\nWe lo
 ok forward to seeing you!
LAST-MODIFIED:20250906T155404Z
LOCATION:Zoom - RSVP on this page and the link will be sent in advance
ORGANIZER;CN="Extinction Rebellion Boston":MAILTO:outreach@xrboston.org
URL:https://xrboston.org/action/welcome-call-sept25/
END:VEVENT
END:VCALENDAR
