BEGIN:VCALENDAR
VERSION:2.0
PRODID:-//Extinction Rebellion Boston//Action//
BEGIN:VEVENT
SUMMARY:Welcome Call
DTSTART:20260513T233000Z
DTEND:20260514T013000Z
DTSTAMP:20260421T141457Z
UID:2255@https://xrboston.org
CREATED:20260421T141457Z
DESCRIPTION:Event details: https://xrboston.org/action/welcome-may13/\n\nJ
 oin us to learn how this global movement works\, what the Boston Chapter h
 as been up to\, and ways you can contribute! The call will last one hour.\
 n\nWe look forward to seeing you!\n\nRSVP on this page and the Zoom link w
 ill be emailed in advance.
LAST-MODIFIED:20260421T100733Z
LOCATION:[Zoom -- RSVP and the link will be sent](https://xrboston.org/act
 ion/welcome-may13/)
ORGANIZER;CN="Extinction Rebellion Boston":MAILTO:outreach@xrboston.org
URL:https://xrboston.org/action/welcome-may13/
END:VEVENT
END:VCALENDAR
