BEGIN:VCALENDAR
VERSION:2.0
PRODID:-//Extinction Rebellion Boston//Action//
BEGIN:VEVENT
SUMMARY:New Member Welcome Call
DTSTART:20251014T233000Z
DTEND:20251015T013000Z
DTSTAMP:20260421T212703Z
UID:2160@https://xrboston.org
CREATED:20260421T212703Z
DESCRIPTION:Event details: https://xrboston.org/action/welcomecalloct14/\n
 \nJoin us to learn how this global movement works\, what the Boston Chapte
 r has been up to\, and how to get plugged in! The call will last one hour.
 \n\nWe look forward to seeing you!
LAST-MODIFIED:20251014T231148Z
LOCATION:https://us06web.zoom.us/j/84044537930?pwd=JhiltuEhRbtV1SbJ2SkaQd7
 taKiNrY.1
ORGANIZER;CN="Extinction Rebellion Boston":MAILTO:outreach@xrboston.org
URL:https://xrboston.org/action/welcomecalloct14/
END:VEVENT
END:VCALENDAR
