BEGIN:VCALENDAR
VERSION:2.0
PRODID:-//Extinction Rebellion Boston//Action//
BEGIN:VEVENT
SUMMARY:Winter Solstice Potluck + Circle: Grief\, Gratitude\, and Communin
 g
DTSTART:20231221T230000Z
DTEND:20231222T010000Z
DTSTAMP:20260425T120244Z
UID:1666@https://xrboston.org
CREATED:20260425T120244Z
DESCRIPTION:Event details: https://xrboston.org/action/winter-solstice-cir
 cle-ggc/\n\n**Run time ~2.5 hours. We will share food potluck style\, and 
 then at 7:15 form a circle to share both our grief and gratitude at this p
 oint in the season. Bring a dish if you have the time/money\, but there wi
 ll be extra! Also feel free to join for just one part of the event\, if th
 at's all your schedule allows.**\n\nAt the winter Solstice\, we stand at a
  threshold: it is the longest night of the year\, and marks the astronomic
 al beginning of Winter. At the same time\, it is from this day forward tha
 t the days lengthen and light begins its slow return.\n\nJoin fellow XR re
 bels in a circle of grief and gratitude\, as we engage in the dance of dar
 kness and light. We share our grief\, because the work we do for all being
 s is a labor of love\, and in love our hearts are broken open. We share ou
 r gratitude\, because our hearts are filled by the earth we call home\, an
 d the work we share for the sake of all.
LAST-MODIFIED:20231219T204230Z
LOCATION:Community Church of Boston\, 565 Boylston Street (Copley Square)\
 , Boston
ORGANIZER;CN="Extinction Rebellion Boston":MAILTO:outreach@xrboston.org
URL:https://xrboston.org/action/winter-solstice-circle-ggc/
END:VEVENT
END:VCALENDAR
