BEGIN:VCALENDAR
VERSION:2.0
PRODID:-//Extinction Rebellion Boston//Action//
BEGIN:VEVENT
SUMMARY:Climate Justice Means Justice for All
DTSTART:20220925T160000Z
DTEND:20220925T180000Z
DTSTAMP:20260421T122212Z
UID:1284@https://xrboston.org
CREATED:20260421T122212Z
DESCRIPTION:Event details: https://xrboston.org/action/wor-climate-justice
 -means-justice-for-all/\n\nJoin members of Extinction Rebellion in a prote
 st centering & expressing the intersectionality of the Climate Emergency. 
 We'll rally with speakers & representatives from social\, climate\, racial
 \, or economic justice movements\, as well as groups of a political nature
 \, interested in coming together to protest government inaction on the cli
 mate crisis. \n\nOur hope is to put the sociocratic idiom “Many Voices\,
  One Song” (thanks\, Ted!) into practice by creating an opportunity for 
 our accomplices & allied organizations to speak out about the climate issu
 es impacting or motivating them\, all while demanding “NO NEW FOSSIL FUE
 L INFRASTRUCTURE” together. \n\nThrough this event\, we aim to further s
 trengthen and expand our relationships with allied organizations\, create 
 opportunities for coalition-building & collaboration\, and build cross-mov
 ement solidarity.
LAST-MODIFIED:20220924T154506Z
LOCATION:Boston Common\, Steps Across from State House
ORGANIZER;CN="Extinction Rebellion Boston":MAILTO:outreach@xrboston.org
URL:https://xrboston.org/action/wor-climate-justice-means-justice-for-all/
END:VEVENT
END:VCALENDAR
