BEGIN:VCALENDAR
VERSION:2.0
PRODID:-//Extinction Rebellion Boston//Action//
BEGIN:VEVENT
SUMMARY:Scientist Rebellion: Look Up
DTSTART:20220923T213000Z
DTEND:20220923T233000Z
DTSTAMP:20260421T053730Z
UID:1275@https://xrboston.org
CREATED:20260421T053730Z
DESCRIPTION:Event details: https://xrboston.org/action/wor_sr_20220923/\n\
 nLearn from and talk to local scientists about the facts of the climate an
 d ecological crises - and what to do about it!\n\nWe are scientists and we
  are raising the alarm! As members of this community\, we are concerned\, 
 worried\, even scared about all our future. We need to work together for a
  more sustainable society. The first step is to stop building new fossil f
 uel infrastructure and drastically reduce greenhouse gas emissions. \n\nYe
 t\, there are many other scientific insights that can help us making this 
 city and this planet more resilient and livable. Come to hear and join a d
 iscussion around a series of 5-minute talks in which scientists working in
  different fields highlight various aspects of these crises and the soluti
 ons that we can support.\n\nThe talks will be given between 5:30 and 6:45p
 m at [Fan Pier Pavillion](https://goo.gl/maps/khtiaaGRUJWzvWFq7) in the Se
 aport. Please rsvp for updates on the location and more!
LAST-MODIFIED:20220922T004728Z
LOCATION:[Fan Pier Pavillion\, Seaport](https://goo.gl/maps/khtiaaGRUJWzvW
 Fq7)
ORGANIZER;CN="Extinction Rebellion Boston":MAILTO:outreach@xrboston.org
URL:https://xrboston.org/action/wor_sr_20220923/
END:VEVENT
END:VCALENDAR
